BEGIN:VCALENDAR
VERSION:2.0
PRODID:-//Capital Kennel Club of Juneau//NONSGML kigkonsult.se iCalcreator 2.41.92//
CALSCALE:GREGORIAN
METHOD:PUBLISH
UID:62386333-3237-4134-a433-383839363935
X-WR-CALNAME:iCagenda
X-WR-CALDESC:Event Management Extension for Joomla!
X-WR-RELCALID:3E26604A-50F4-4449-8B3E-E4F4932D05B5
X-WR-TIMEZONE:America/Juneau
BEGIN:VTIMEZONE
TZID:America/Juneau
TZUNTIL:20251102T100000Z
BEGIN:STANDARD
TZNAME:AKST
DTSTART:20231105T020000
TZOFFSETFROM:-0800
TZOFFSETTO:-0900
RDATE:20241103T020000
END:STANDARD
BEGIN:DAYLIGHT
TZNAME:AKDT
DTSTART:20230312T020000
TZOFFSETFROM:-0900
TZOFFSETTO:-0800
RDATE:20240310T020000
RDATE:20250309T020000
END:DAYLIGHT
END:VTIMEZONE
BEGIN:VEVENT
UID:32356634-6561-4533-b033-386630343137
DTSTAMP:20260424T021915Z
CATEGORIES:Obedience
CLASS:PUBLIC
DESCRIPTION;ALTREP="CID:<FFFF__=0ABBE548DFE235B58f9e8a93d@coffeebean.com>":
 This workshop will be for advanced obedience handlers - audit only. This w
 ill be a 3 hour workshop 2:00 to 5:00 pm. The instructor will be UKC Judge
  Terri Kaluza. This workshop topics will include:\n\nRun-throughs with ins
 truction at each level\nInstruction on handler footwork\nInstruction on pr
 oofing\nTeaching attention\nProblem solving\n\n**Prerequisite for working 
 spot is a title in UCD or CD or be able to show dog has necessary skills f
 or this advanced workshop.\nIMPORTANT: If you want to pay by check or cash
 \, or If you want to use Doggie Dollars\, please use the paper PDF Registr
 ation Form (see below for link). Please contact the Facilitator (see email
  below) to let them know you are registering via paper form and for instru
 ctions on how to get the form and payment to them.
DTSTART:20240112T230000Z
DTEND:20240112T230000Z
GEO:00;0
LOCATION:Mount Jumbo Gym
ORGANIZER;CN=:mailto:woktrot@yahoo.com
SEQUENCE:1
SUMMARY:Advanced Obedience Workshop (AUDIT) - Friday Jan 12\, 2024
TRANSP:OPAQUE
URL:https://ckcoj.org/index.php/calendar/165-advanced-obedience-workshop-au
 dit-friday-jan-12-2024/2024-01-12-14-00
END:VEVENT
END:VCALENDAR
