BEGIN:VCALENDAR
VERSION:2.0
PRODID:-//Capital Kennel Club of Juneau//NONSGML kigkonsult.se iCalcreator 2.41.92//
CALSCALE:GREGORIAN
METHOD:PUBLISH
UID:39326566-3439-4634-b964-626435613065
X-WR-CALNAME:iCagenda
X-WR-CALDESC:Event Management Extension for Joomla!
X-WR-RELCALID:3E26604A-50F4-4449-8B3E-E4F4932D05B5
X-WR-TIMEZONE:America/Juneau
BEGIN:VTIMEZONE
TZID:America/Juneau
TZUNTIL:20231105T100000Z
BEGIN:STANDARD
TZNAME:AKST
DTSTART:20211107T020000
TZOFFSETFROM:-0800
TZOFFSETTO:-0900
RDATE:20221106T020000
END:STANDARD
BEGIN:DAYLIGHT
TZNAME:AKDT
DTSTART:20210314T020000
TZOFFSETFROM:-0900
TZOFFSETTO:-0800
RDATE:20220313T020000
RDATE:20230312T020000
END:DAYLIGHT
END:VTIMEZONE
BEGIN:VEVENT
UID:64383635-3166-4834-a533-353132653133
DTSTAMP:20260426T035729Z
CATEGORIES:Obedience
CLASS:PUBLIC
DESCRIPTION;ALTREP="CID:<FFFF__=0ABBE548DFE235B58f9e8a93d@coffeebean.com>":
 This class will cover the Novice\, Pre-Novice and Beginning Novice class e
 xercises and is for those who want to prepare for entering United Kennel C
 lub obedience trials hosted by Capital Kennel Club of Juneau. This course 
 will cover the rules\, steps to train the exercises using positive reinfor
 cement training methods\, how to enter a competition\, and how to get your
  dog registered with UKC (mixed breeds are eligible to compete in UKC perf
 ormance events). Although not specifically geared towards Rally Obedience\
 , many of the skills will transfer. There will be reading and DVD homework
  and an expectation of 15 minutes per day of practice/training with your d
 og. Limit of 6.\nInstructor - Pat Kalbaugh. She has trained and competed i
 n UKC\, AKC and Canada obedience and rally trials with 5 dogs over the las
 t 31 years. She has trained and titled 3 to the highest (Utility) level in
  multiple registries. She has studied under some of the best instructors i
 n the US and UK. She is passionate about training for competition obedienc
 e and rally and I want to pass my knowledge onto others.\nMasks are requir
 ed. Since it is difficult to always maintain social distancing\, participa
 nts must be fully vaccinated.\nEquipment Needed: Flat buckle or martingale
  collar with no tags\, 6 foot leash (fabric or leather)\, yummy treats you
 r dog doesn't usually get cut into very tiny bites (string or hard cheese 
 is a good choice if your dog likes it or small pieces of meat).
DTSTART:20220205T190000Z
DTEND:20220205T200000Z
GEO:+58.2757;-134.395996
LOCATION:Mt Jumbo Gym\, Douglas\, AK
ORGANIZER;CN=:mailto:pakalbaugh@gmail.com
SEQUENCE:1
SUMMARY:Intro to Novice Competition Obedience - Jan-Feb 2022
TRANSP:OPAQUE
URL:https://ckcoj.org/index.php/component/icagenda/111-intro-to-novice-comp
 etition-obedience-jan-feb-2022/2022-02-05-10-00?Itemid=101
END:VEVENT
END:VCALENDAR
