BEGIN:VCALENDAR
VERSION:2.0
PRODID:-//Capital Kennel Club of Juneau//NONSGML kigkonsult.se iCalcreator 2.41.92//
CALSCALE:GREGORIAN
METHOD:PUBLISH
UID:39663739-3432-4939-b938-383135396135
X-WR-CALNAME:iCagenda
X-WR-CALDESC:Event Management Extension for Joomla!
X-WR-RELCALID:3E26604A-50F4-4449-8B3E-E4F4932D05B5
X-WR-TIMEZONE:America/Juneau
BEGIN:VTIMEZONE
TZID:America/Juneau
TZUNTIL:20250309T110000Z
BEGIN:STANDARD
TZNAME:AKST
DTSTART:20221106T020000
TZOFFSETFROM:-0800
TZOFFSETTO:-0900
RDATE:20231105T020000
RDATE:20241103T020000
END:STANDARD
BEGIN:DAYLIGHT
TZNAME:AKDT
DTSTART:20230312T020000
TZOFFSETFROM:-0900
TZOFFSETTO:-0800
RDATE:20240310T020000
END:DAYLIGHT
END:VTIMEZONE
BEGIN:VEVENT
UID:65636562-6163-4938-b362-346566623434
DTSTAMP:20260423T084703Z
CATEGORIES:Nosework
CLASS:PUBLIC
DESCRIPTION;ALTREP="CID:<FFFF__=0ABBE548DFE235B58f9e8a93d@coffeebean.com>":
 This is a in person continuation of the AKC Scent Work Online Class from A
 pril 2023.\nYou must have completed the April AKC Scent Work Online Class 
 to register.The seminar will be in person with up to 10 handlers with thei
 r dog.  A combination of lecture and working dogs on scent work.  Seminar 
 will likely have both an indoor and outdoor component so come dressed for 
 the weather.  Handlers should bring treats for their dog as well as have a
  crate to put their dog during lectures and for breaks.  Handlers will nee
 d to bring their own chairs and water.
DTSTART:20230715T170000Z
DTEND:20230715T170000Z
GEO:+58.389164;-134.646851
LOCATION:Auke Bay School Covered Playground
ORGANIZER;CN=:mailto:woktrot@yahoo.com
SEQUENCE:1
SUMMARY:AKC Scent Work Seminar - Jul 2023
TRANSP:OPAQUE
URL:https://ckcoj.org/index.php/component/icagenda/152-ukc-scent-work-semin
 ar-jul-2023/2023-07-15-09-00?Itemid=101&iccaldate=2026-3-1
END:VEVENT
END:VCALENDAR
