BEGIN:VCALENDAR
VERSION:2.0
PRODID:-//Capital Kennel Club of Juneau//NONSGML kigkonsult.se iCalcreator 2.41.92//
CALSCALE:GREGORIAN
METHOD:PUBLISH
UID:30393835-6335-4261-b135-363665633565
X-WR-CALNAME:iCagenda
X-WR-CALDESC:Event Management Extension for Joomla!
X-WR-RELCALID:3E26604A-50F4-4449-8B3E-E4F4932D05B5
X-WR-TIMEZONE:America/Juneau
BEGIN:VTIMEZONE
TZID:America/Juneau
TZUNTIL:20191103T100000Z
BEGIN:STANDARD
TZNAME:AKST
DTSTART:20171105T020000
TZOFFSETFROM:-0800
TZOFFSETTO:-0900
RDATE:20181104T020000
END:STANDARD
BEGIN:DAYLIGHT
TZNAME:AKDT
DTSTART:20170312T020000
TZOFFSETFROM:-0900
TZOFFSETTO:-0800
RDATE:20180311T020000
RDATE:20190310T020000
END:DAYLIGHT
END:VTIMEZONE
BEGIN:VEVENT
UID:65313863-3262-4030-a262-366430646131
DTSTAMP:20260423T084737Z
CATEGORIES:Obedience
CLASS:PUBLIC
DESCRIPTION;ALTREP="CID:<FFFF__=0ABBE548DFE235B58f9e8a93d@coffeebean.com>":
 Open/Utility Obedience Fun Match is open to CKCOJ Members Only.\nPut Satur
 day\, March 3rd on your calendar for an obedience Fun Match at Mt. Jumbo g
 ym from 9 a.m. - 12 noon.\n \nSetup will be at 9:00am. Please plan to help
  with setup OR cleanup and if you can do both\, you are awesome! We will b
 e recruiting stewards from participants and will try not to have you stewa
 rd during your class. \n \nLet us know in advance your dog's name\, jump h
 eight and level (novice\, open or utility) and how many runs you want at e
 ach level. Everyone will get at least one run and those that want a second
  run will be accommodated if we have time on first come\, first served bas
 is.\n \nYour Jan-Mar practice session fee will cover your first run. Secon
 d runs will be $7.50. Drop ins  (those not currently registered for the se
 ssion) will pay the regular drop in fee for the first run and $7.50 for ad
 ditional runs.
DTSTART:20180303T180000Z
DTEND:20180303T210000Z
GEO:+58.2757;-134.395996
LOCATION:Mount Jumbo Gym
ORGANIZER;CN=:mailto:slh@ak.net
SEQUENCE:1
SUMMARY:Obedience Fun Match
TRANSP:OPAQUE
URL:https://ckcoj.org/index.php/component/icagenda/27-2017-06-16-00-22-57/2
 018-03-03-09-00?Itemid=101&iccaldate=2026-3-1
END:VEVENT
END:VCALENDAR
