BEGIN:VCALENDAR
VERSION:2.0
PRODID:-//Capital Kennel Club of Juneau//NONSGML kigkonsult.se iCalcreator 2.41.92//
CALSCALE:GREGORIAN
METHOD:PUBLISH
UID:39393963-3165-4739-b465-393566663035
X-WR-CALNAME:iCagenda
X-WR-CALDESC:Event Management Extension for Joomla!
X-WR-RELCALID:3E26604A-50F4-4449-8B3E-E4F4932D05B5
X-WR-TIMEZONE:America/Juneau
BEGIN:VTIMEZONE
TZID:America/Juneau
TZUNTIL:20200308T110000Z
BEGIN:STANDARD
TZNAME:AKST
DTSTART:20171105T020000
TZOFFSETFROM:-0800
TZOFFSETTO:-0900
RDATE:20181104T020000
RDATE:20191103T020000
END:STANDARD
BEGIN:DAYLIGHT
TZNAME:AKDT
DTSTART:20180311T020000
TZOFFSETFROM:-0900
TZOFFSETTO:-0800
RDATE:20190310T020000
END:DAYLIGHT
END:VTIMEZONE
BEGIN:VEVENT
UID:39613939-3534-4462-a335-613739303034
DTSTAMP:20260423T044326Z
CATEGORIES:Agility
CLASS:PUBLIC
DESCRIPTION;ALTREP="CID:<FFFF__=0ABBE548DFE235B58f9e8a93d@coffeebean.com>":
 Open to all members trained on obstacles or members who completed a Beginn
 ers Level 1 class. This practice is split between beginners &amp\; interme
 diate handlers. Focus is on cuing\, sequencing\, distance training with sh
 ort &amp\; long courses.\nA good recall highly is recommended for off-leas
 h training. Dogs must be at least 12 months old and have no issues with ot
 her dogs. Bring a crate\, a 6 foot slip leash\, favorite TUG &amp\; Throw 
 toy and small tasty treats. The field will be split into two training area
 s.\nHandler must be a member of CKCOJ.
DTSTART:20180729T224500Z
DTEND:20180729T224500Z
GEO:+58.304325;-134.412888
LOCATION:Cope Park Dog Field
ORGANIZER;CN=:mailto:DIMYK52@aol.com
SEQUENCE:1
SUMMARY:Beginners 2 Agility Class -  May-Jul
TRANSP:OPAQUE
URL:https://ckcoj.org/index.php/component/icagenda/32-beginners-agility-cla
 ss-2/2018-07-29-14-45?Itemid=101&iccaldate=2026-2-1
END:VEVENT
END:VCALENDAR
