BEGIN:VCALENDAR
VERSION:2.0
PRODID:-//Capital Kennel Club of Juneau//NONSGML kigkonsult.se iCalcreator 2.41.92//
CALSCALE:GREGORIAN
METHOD:PUBLISH
UID:36363435-6561-4563-b937-656230363964
X-WR-CALNAME:iCagenda
X-WR-CALDESC:Event Management Extension for Joomla!
X-WR-RELCALID:3E26604A-50F4-4449-8B3E-E4F4932D05B5
X-WR-TIMEZONE:America/Juneau
BEGIN:VTIMEZONE
TZID:America/Juneau
TZUNTIL:20191103T100000Z
BEGIN:STANDARD
TZNAME:AKST
DTSTART:20171105T020000
TZOFFSETFROM:-0800
TZOFFSETTO:-0900
RDATE:20181104T020000
END:STANDARD
BEGIN:DAYLIGHT
TZNAME:AKDT
DTSTART:20180311T020000
TZOFFSETFROM:-0900
TZOFFSETTO:-0800
RDATE:20190310T020000
END:DAYLIGHT
END:VTIMEZONE
BEGIN:VEVENT
UID:32373162-3265-4539-b766-393666613835
DTSTAMP:20260423T083743Z
CATEGORIES:Canine Good Citizen
CLASS:PUBLIC
DESCRIPTION;ALTREP="CID:<FFFF__=0ABBE548DFE235B58f9e8a93d@coffeebean.com>":
 The Capital Kennel Club of Juneau is holding a Canine Good Citizen evaluat
 ion/test. This is a test/evaluation to determine whether a dog successfull
 y completes the 10 elements of the CGC evaluation as established by the Am
 erican Kennel Club. A dog that successfully completes all elements of the 
 evaluation will be certified as a Canine Good Citizen.\nThe evaluation wil
 l take less than 15 minutes per dog. Approximately 6 test slots are availa
 ble. Registration will be open as long as test slots are available. Reserv
 e your time slot as soon as possible.\nCONTACT George Utermohle to schedul
 e a test time (email and phone below).\nMake check payable to Capital Kenn
 el Club of Juneau.\nIMPORTANT: Bring registration form and payment to the 
 test.
DTSTART:20180426T020000Z
DTEND:20180426T040000Z
GEO:00;0
LOCATION:Riverbend Elementary School Commons
ORGANIZER;CN=:mailto:norwaypt@gci.net
SEQUENCE:1
SUMMARY:Canine Good Citizen Evaluation/Test
TRANSP:OPAQUE
URL:https://ckcoj.org/index.php/component/icagenda/34-canine-good-citizen-e
 valuation-test?Itemid=101&iccaldate=2026-5-1
END:VEVENT
END:VCALENDAR
