BEGIN:VCALENDAR
VERSION:2.0
PRODID:-//Capital Kennel Club of Juneau//NONSGML kigkonsult.se iCalcreator 2.41.92//
CALSCALE:GREGORIAN
METHOD:PUBLISH
UID:33653431-6461-4133-a461-636234613865
X-WR-CALNAME:iCagenda
X-WR-CALDESC:Event Management Extension for Joomla!
X-WR-RELCALID:3E26604A-50F4-4449-8B3E-E4F4932D05B5
X-WR-TIMEZONE:America/Juneau
BEGIN:VTIMEZONE
TZID:America/Juneau
TZUNTIL:20200308T110000Z
BEGIN:STANDARD
TZNAME:AKST
DTSTART:20171105T020000
TZOFFSETFROM:-0800
TZOFFSETTO:-0900
RDATE:20181104T020000
RDATE:20191103T020000
END:STANDARD
BEGIN:DAYLIGHT
TZNAME:AKDT
DTSTART:20180311T020000
TZOFFSETFROM:-0900
TZOFFSETTO:-0800
RDATE:20190310T020000
END:DAYLIGHT
END:VTIMEZONE
BEGIN:VEVENT
UID:64613537-6530-4563-a338-336334373637
DTSTAMP:20260423T030348Z
CATEGORIES:Agility
CLASS:PUBLIC
DESCRIPTION;ALTREP="CID:<FFFF__=0ABBE548DFE235B58f9e8a93d@coffeebean.com>":
 Open to all members trained on obstacles or members who completed a Beginn
 ers Level 1 class. Each course consists of beginners or intermediate seque
 ncing. The Focus is on cuing\, distance training\, handling systems and fo
 undational basics with each course.\nA good recall highly is recommended f
 or off-leash training. Dogs must be at least 12 months old and have no iss
 ues with other dogs. Bring a crate\, a 6 foot slip leash\, favorite TUG &a
 mp\; Throw toy and small tasty treats. The field will be split into two tr
 aining areas.\nHandler must be a member of CKCOJ.
DTSTART:20180801T020000Z
DTEND:20180801T040000Z
GEO:+58.304325;-134.412888
LOCATION:Cope Park Dog Field
ORGANIZER;CN=:mailto:DIMYK52@aol.com
SEQUENCE:1
SUMMARY:Beginners 2 Agility Class -  Jul-Aug
TRANSP:OPAQUE
URL:https://ckcoj.org/index.php/component/icagenda/39-beginners-agility-cla
 ss-4/2018-07-31-18-00?Itemid=101&iccaldate=2026-5-1
END:VEVENT
END:VCALENDAR
