BEGIN:VCALENDAR
VERSION:2.0
PRODID:-//Capital Kennel Club of Juneau//NONSGML kigkonsult.se iCalcreator 2.41.92//
CALSCALE:GREGORIAN
METHOD:PUBLISH
UID:33373335-6530-4531-b065-646166373037
X-WR-CALNAME:iCagenda
X-WR-CALDESC:Event Management Extension for Joomla!
X-WR-RELCALID:3E26604A-50F4-4449-8B3E-E4F4932D05B5
X-WR-TIMEZONE:America/Juneau
BEGIN:VTIMEZONE
TZID:America/Juneau
TZUNTIL:20231105T100000Z
BEGIN:STANDARD
TZNAME:AKST
DTSTART:20211107T020000
TZOFFSETFROM:-0800
TZOFFSETTO:-0900
RDATE:20221106T020000
END:STANDARD
BEGIN:DAYLIGHT
TZNAME:AKDT
DTSTART:20210314T020000
TZOFFSETFROM:-0900
TZOFFSETTO:-0800
RDATE:20220313T020000
RDATE:20230312T020000
END:DAYLIGHT
END:VTIMEZONE
BEGIN:VEVENT
UID:30333934-3731-4439-a433-316532376631
DTSTAMP:20260426T035456Z
CATEGORIES:Obedience
CLASS:PUBLIC
DESCRIPTION;ALTREP="CID:<FFFF__=0ABBE548DFE235B58f9e8a93d@coffeebean.com>":
 There will be practices on Saturday mornings each week.  There will be a o
 ne hour sessions:  10:00am to 11:00am\nMasks are required. Since it is dif
 ficult to always maintain social distancing\, participants must be fully v
 accinated.\nCKCOJ Members Only.\nPLEASE PLAN TIME TO PARTICIPATE IN SET UP
  AND CLEAN UP OF EQUIPMENT
DTSTART:20220205T190000Z
DTEND:20220205T200000Z
GEO:+58.2757;-134.395996
LOCATION:Mount Jumbo Gym
ORGANIZER;CN=:mailto:slh@ak.net
SEQUENCE:1
SUMMARY:Obedience/Rally Un-facilitated Practice - Jan-Feb 2022
TRANSP:OPAQUE
URL:https://ckcoj.org/index.php/component/icagenda/113-2017-08-27-21-33-06/
 2022-02-05-10-00?Itemid=101&iccaldate=2026-5-1
END:VEVENT
END:VCALENDAR
