BEGIN:VCALENDAR
VERSION:2.0
PRODID:-//Capital Kennel Club of Juneau//NONSGML kigkonsult.se iCalcreator 2.41.92//
CALSCALE:GREGORIAN
METHOD:PUBLISH
UID:39623064-3565-4664-b633-366237643866
X-WR-CALNAME:iCagenda
X-WR-CALDESC:Event Management Extension for Joomla!
X-WR-RELCALID:3E26604A-50F4-4449-8B3E-E4F4932D05B5
X-WR-TIMEZONE:America/Juneau
BEGIN:VTIMEZONE
TZID:America/Juneau
TZUNTIL:20240310T110000Z
BEGIN:STANDARD
TZNAME:AKST
DTSTART:20211107T020000
TZOFFSETFROM:-0800
TZOFFSETTO:-0900
RDATE:20221106T020000
RDATE:20231105T020000
END:STANDARD
BEGIN:DAYLIGHT
TZNAME:AKDT
DTSTART:20220313T020000
TZOFFSETFROM:-0900
TZOFFSETTO:-0800
RDATE:20230312T020000
END:DAYLIGHT
END:VTIMEZONE
BEGIN:VEVENT
UID:64666435-3530-4332-b236-626166323265
DTSTAMP:20260426T035736Z
CATEGORIES:Obedience
CLASS:PUBLIC
DESCRIPTION;ALTREP="CID:<FFFF__=0ABBE548DFE235B58f9e8a93d@coffeebean.com>":
 There is no instructor scheduled for these practices.
DTSTART:20220723T170000Z
DTEND:20220723T190000Z
GEO:+58.38966;-134.647751
LOCATION:Auke Bay School Covered Playground
ORGANIZER;CN=:mailto:marty@taursys.com
SEQUENCE:1
SUMMARY:Obedience/Rally Practice - Jul-Aug 2022
TRANSP:OPAQUE
URL:https://ckcoj.org/index.php/component/icagenda/119-obedience-rally-prac
 tice-jul-aug-2022/2022-07-23-09-00?Itemid=101
END:VEVENT
END:VCALENDAR
