BEGIN:VCALENDAR
VERSION:2.0
PRODID:-//Capital Kennel Club of Juneau//NONSGML kigkonsult.se iCalcreator 2.41.92//
CALSCALE:GREGORIAN
METHOD:PUBLISH
UID:62313139-6337-4837-b532-343064656330
X-WR-CALNAME:iCagenda
X-WR-CALDESC:Event Management Extension for Joomla!
X-WR-RELCALID:3E26604A-50F4-4449-8B3E-E4F4932D05B5
X-WR-TIMEZONE:America/Juneau
BEGIN:VTIMEZONE
TZID:America/Juneau
TZUNTIL:20241103T100000Z
BEGIN:STANDARD
TZNAME:AKST
DTSTART:20211107T020000
TZOFFSETFROM:-0800
TZOFFSETTO:-0900
RDATE:20221106T020000
RDATE:20231105T020000
END:STANDARD
BEGIN:DAYLIGHT
TZNAME:AKDT
DTSTART:20220313T020000
TZOFFSETFROM:-0900
TZOFFSETTO:-0800
RDATE:20230312T020000
RDATE:20240310T020000
END:DAYLIGHT
END:VTIMEZONE
BEGIN:VEVENT
UID:33356462-3561-4565-b164-396462313331
DTSTAMP:20260426T010522Z
CATEGORIES:Trials
CLASS:PUBLIC
DESCRIPTION;ALTREP="CID:<FFFF__=0ABBE548DFE235B58f9e8a93d@coffeebean.com>":
 Capital Kennel Club of Juneau to Host\n2 UKC Licensed Obedience TrialsandR
 ally Obedience Trials\nObedience Schedule\n\n\n\n\n\n \nFri Trial 1\nFri T
 rial 2\n\n\nEntries Open\n2:30pm\n4:30pm\n\n\nEntries Close\n3:00pm\n5:00p
 m\n\n\nStart Time (no earlier than)\n3:00pm\n5:00pm\n\n\n\nJudge\n\nLisa B
 arnard\nLisa Barnard\n\n\n\n\n\nRally Obedience Schedule\n\n\n\n\n\n \nSat
  Trial 1\nSat Trial 2\n\n\nEntries Open\n9:00am\n11:00am\n\n\nEntries Clos
 e\n9:30am\n11:30am\n\n\nStart Time (no earlier than)\n9:30am\n11:30am\n\n
 \n\nJudge\n\nLisa Barnard\nLisa Barnard\n\n\n\n\n\n\n \n\nRing Conditions
 \nHardwood floor\, partially matted\, free standing plastic ring gates\, s
 tandard size ring for obedience.\nMove Ups\nMove ups will be accepted at a
 ll trials. Please notify the Trial Secretary no later than 15 minutes befo
 re judging begins.\nAwards for Licensed Trials\nRibbons for High in Trial\
 , first through fourth placement\, and qualifying score.\nClosing Date\nPr
 e-entries must be received on or before the Pre-Entry Deadline September 1
 7\, 2022. Entries will also be taken the day of trial (see Trial Schedule 
 below for times). Send entries to: George Utermohle\, P.O. Box 20887\, Jun
 eau\, AK 99802\nPre-Entry Fees\nNote: Pre-entry fees must be received by t
 he below listed Pre-Entry Deadline September 17\, 2022.\n\n\n\nEvent\nEntr
 y Fee\nNotes\n\n\nObedience &amp\; Rally Obedience\n$25\n\nFirst Entry - f
 or first entry of a dog by a handler in each trial\n\n\n\nObedience &amp\;
  Rally Obedience\n$15\n\nSecond Entry - for 2nd entry of same dog in the s
 ame trial\nEXAMPLES: 1) same dog pre-entered in Rally Level 2 and Rally Le
 vel 3 at the same trial = $402) same dog entered in Open and Utility at th
 e same trial = $40\n\n\n\nObedience &amp\; Rally Obedience\n$25 / $0\n\nJu
 nior handler $25 per dog and NO fee for same dog/same trial\n\n\n\n\nDay o
 f Show Fees\n\n\n\nEvent\nEntry Fee\nNotes\n\n\nObedience &amp\; Rally Obe
 dience\n$30\n\nFirst Entry - for first entry of a dog by a handler in each
  trial\n\n\n\nObedience &amp\; Rally Obedience\n$20\n\nSecond Entry - for 
 2nd entry of same dog in the same trial\nEXAMPLES: 1) same dog pre-entered
  in Rally Level 2 and Rally Level 3 at the same trial = $502) same dog ent
 ered in Open and Utility at the same trial = $50\n\n\n\nObedience &amp\; R
 ally Obedience\n$30 / $20\n\nJunior handler $30 per dog and $20 fee for sa
 me dog/same trial\n\n\n\n\nSpecial Information\nEntries MUST include the d
 og's UKC registration number\, no exceptions. Registration info: http://ww
 w.ukcdogs.com/Web.nsf/WebPages/Registration/Home\nThe United Kennel Club c
 omplies with the Americans with Disabilities Act. If you require an accomm
 odation\, please contact the Event Chair or Secretary for this club’s even
 t.\nPayment\nCash or check made out to CKCOJ. Emailed entry forms will be 
 accepted from out of town entries. Payment from out of town entries are du
 e before the beginning of the 1st trial in which the exhibitor is entered.
  No credit or debit card payments will be accepted.\nRefund Policy\nRefund
 s will be granted when requested by the participant for any reason prior t
 o exhibiting the dog in a trial.\nDriving Directions\nFrom the Auke Bay Fe
 rry Terminal: turn right out of the terminal parking lot heading toward do
 wntown. Turn right at the 10th street traffic light and go over the Dougla
 s bridge. Go left at the round about heading south toward Douglas. Turn ri
 ght on Fourth Street by the Douglas Inn (Louie’s) and the Douglas mini mar
 t. Jumbo Gym is one block up on the left.\n \n 
DTSTART:20220923T080000Z
DTEND:20220924T080000Z
GEO:+58.2757;-134.395996
LOCATION:Mount Jumbo Gym Douglas AK
ORGANIZER:
SEQUENCE:1
SUMMARY:UKC Obedience & Rally Trials Sep 2022
TRANSP:OPAQUE
URL:https://ckcoj.org/index.php/component/icagenda/120-ukc-obedience-trials
 -dates-2022-sep?Itemid=101&iccaldate=2026-5-1
END:VEVENT
END:VCALENDAR
