BEGIN:VCALENDAR
VERSION:2.0
PRODID:-//Capital Kennel Club of Juneau//NONSGML kigkonsult.se iCalcreator 2.41.92//
CALSCALE:GREGORIAN
METHOD:PUBLISH
UID:32396234-6234-4933-a163-303161333635
X-WR-CALNAME:iCagenda
X-WR-CALDESC:Event Management Extension for Joomla!
X-WR-RELCALID:3E26604A-50F4-4449-8B3E-E4F4932D05B5
X-WR-TIMEZONE:America/Juneau
BEGIN:VTIMEZONE
TZID:America/Juneau
TZUNTIL:20250309T110000Z
BEGIN:STANDARD
TZNAME:AKST
DTSTART:20221106T020000
TZOFFSETFROM:-0800
TZOFFSETTO:-0900
RDATE:20231105T020000
RDATE:20241103T020000
END:STANDARD
BEGIN:DAYLIGHT
TZNAME:AKDT
DTSTART:20230312T020000
TZOFFSETFROM:-0900
TZOFFSETTO:-0800
RDATE:20240310T020000
END:DAYLIGHT
END:VTIMEZONE
BEGIN:VEVENT
UID:64316535-3966-4239-b833-303734373261
DTSTAMP:20260425T103821Z
CATEGORIES:Agility
CLASS:PUBLIC
DESCRIPTION;ALTREP="CID:<FFFF__=0ABBE548DFE235B58f9e8a93d@coffeebean.com>":
 This seminar will cover the following skills:\n\nDrills on different types
  of crosses and when\, why and how to use them on a course.\nObstacle comm
 itment and send drills. \nIf time permits\, learning to walk an agility co
 urse and what type of handling to use at each obstacle. \n\nTwo half days\
 , 2pm on Friday(23 June) and9am-3pm on Saturday(24 June).\nDogs must be at
  least 12 months old and have no issues with other dogs. Bring a crate\, a
  6 footslip leash and small tasty treats.\nHandler must be a current membe
 r of CKCOJ.\n*** IMPORTANT *** There is also an AUDIT-ONLY registration av
 ailable for a lower price.
DTSTART:20230623T220000Z
DTEND:20230623T220000Z
GEO:+58.384659;-134.743805
LOCATION:Lena Park - Juneau
ORGANIZER;CN=:mailto:woktrot@yahoo.com
SEQUENCE:1
SUMMARY:Improving your Agility Handling Skills - Jun 2023
TRANSP:OPAQUE
URL:https://ckcoj.org/index.php/component/icagenda/144-improving-your-agili
 ty-handling-skills/2023-06-23-14-00?Itemid=101
END:VEVENT
END:VCALENDAR
