BEGIN:VCALENDAR
VERSION:2.0
PRODID:-//Capital Kennel Club of Juneau//NONSGML kigkonsult.se iCalcreator 2.41.92//
CALSCALE:GREGORIAN
METHOD:PUBLISH
UID:31376233-6665-4634-b232-323632333761
X-WR-CALNAME:iCagenda
X-WR-CALDESC:Event Management Extension for Joomla!
X-WR-RELCALID:3E26604A-50F4-4449-8B3E-E4F4932D05B5
X-WR-TIMEZONE:America/Juneau
BEGIN:VTIMEZONE
TZID:America/Juneau
TZUNTIL:20191103T100000Z
BEGIN:STANDARD
TZNAME:AKST
DTSTART:20171105T020000
TZOFFSETFROM:-0800
TZOFFSETTO:-0900
RDATE:20181104T020000
END:STANDARD
BEGIN:DAYLIGHT
TZNAME:AKDT
DTSTART:20170312T020000
TZOFFSETFROM:-0900
TZOFFSETTO:-0800
RDATE:20180311T020000
RDATE:20190310T020000
END:DAYLIGHT
END:VTIMEZONE
BEGIN:VEVENT
UID:39363430-3565-4665-a532-633362386535
DTSTAMP:20260423T083744Z
CATEGORIES:Workshops
CLASS:PUBLIC
DESCRIPTION;ALTREP="CID:<FFFF__=0ABBE548DFE235B58f9e8a93d@coffeebean.com>":
 Nosework is a canine sport created to mimic professional detection dog tas
 ks. One dog and one handler form a team. The dogs must find a hidden targe
 t odor\, often ignoring distractors (such as food or toys)\, and alert the
  handler. After the dog finds the odor they are rewarded with food or a to
 y. Nosework is a fast growing sport in part because it accommodates canine
 s with disabilities or behavior problems.\nCKCOJ is hosting a 1-day semina
 r on Beginning Nosework on Saturday\, March 10. The seminar will be have a
  morning and afternoon session with a 1 1/2 hour lunch break. Both session
 s will be working sessions with instruction interleaved.\nCKCOJ members wi
 ll have first priority for the available working slots. The number of work
 ing slots is limited. There will be an opportunity to audit (without a dog
 ) the work session.
DTSTART:20180310T170000Z
DTEND:20180311T023000Z
GEO:+58.379658;-134.591248
LOCATION:Thunder Mountain High School Commons
ORGANIZER;CN=:mailto:jillg@gci.net
SEQUENCE:1
SUMMARY:Nosework Seminar
TRANSP:OPAQUE
URL:https://ckcoj.org/index.php/component/icagenda/24-nosework-seminar?Item
 id=101
END:VEVENT
END:VCALENDAR
