BEGIN:VCALENDAR
VERSION:2.0
PRODID:-//Capital Kennel Club of Juneau//NONSGML kigkonsult.se iCalcreator 2.41.92//
CALSCALE:GREGORIAN
METHOD:PUBLISH
UID:32313833-6463-4761-b466-303234373735
X-WR-CALNAME:iCagenda
X-WR-CALDESC:Event Management Extension for Joomla!
X-WR-RELCALID:3E26604A-50F4-4449-8B3E-E4F4932D05B5
X-WR-TIMEZONE:America/Juneau
BEGIN:VTIMEZONE
TZID:America/Juneau
TZUNTIL:20200308T110000Z
BEGIN:STANDARD
TZNAME:AKST
DTSTART:20171105T020000
TZOFFSETFROM:-0800
TZOFFSETTO:-0900
RDATE:20181104T020000
RDATE:20191103T020000
END:STANDARD
BEGIN:DAYLIGHT
TZNAME:AKDT
DTSTART:20180311T020000
TZOFFSETFROM:-0900
TZOFFSETTO:-0800
RDATE:20190310T020000
END:DAYLIGHT
END:VTIMEZONE
BEGIN:VEVENT
UID:38656436-3039-4236-b031-613130623130
DTSTAMP:20260423T061342Z
CATEGORIES:Agility
CLASS:PUBLIC
DESCRIPTION;ALTREP="CID:<FFFF__=0ABBE548DFE235B58f9e8a93d@coffeebean.com>":
 Open to all members trained on obstacles or members who are just beginning
  in the sport of Agility.\nA good recall highly is recommended for off-lea
 sh training. Dogs must be at least 12 months old and have no issues with o
 ther dogs. Bring a crate\, a 6 foot slip leash\, favorite toy and small ta
 sty treats.\nHandler must be a member of CKCOJ.
DTSTART:20180606T014500Z
DTEND:20180606T040000Z
GEO:+58.304325;-134.412888
LOCATION:Cope Park Dog Field
ORGANIZER;CN=:mailto:DIMYK52@aol.com
SEQUENCE:1
SUMMARY:Beginners 1 - Obstacles Agility Class -  May-Jun
TRANSP:OPAQUE
URL:https://ckcoj.org/index.php/component/icagenda/38-beginners-agility-cla
 ss-3/2018-06-05-17-45?Itemid=101&iccaldate=2026-5-1
END:VEVENT
END:VCALENDAR
