BEGIN:VCALENDAR
VERSION:2.0
PRODID:-//Capital Kennel Club of Juneau//NONSGML kigkonsult.se iCalcreator 2.41.92//
CALSCALE:GREGORIAN
METHOD:PUBLISH
UID:34346565-6537-4338-b630-636534623434
X-WR-CALNAME:iCagenda
X-WR-CALDESC:Event Management Extension for Joomla!
X-WR-RELCALID:3E26604A-50F4-4449-8B3E-E4F4932D05B5
X-WR-TIMEZONE:America/Juneau
BEGIN:VTIMEZONE
TZID:America/Juneau
TZUNTIL:20191103T100000Z
BEGIN:STANDARD
TZNAME:AKST
DTSTART:20171105T020000
TZOFFSETFROM:-0800
TZOFFSETTO:-0900
RDATE:20181104T020000
END:STANDARD
BEGIN:DAYLIGHT
TZNAME:AKDT
DTSTART:20170312T020000
TZOFFSETFROM:-0900
TZOFFSETTO:-0800
RDATE:20180311T020000
RDATE:20190310T020000
END:DAYLIGHT
END:VTIMEZONE
BEGIN:VEVENT
UID:64393464-3538-4766-b264-653130386363
DTSTAMP:20260424T103310Z
CATEGORIES:Obedience
CLASS:PUBLIC
DESCRIPTION;ALTREP="CID:<FFFF__=0ABBE548DFE235B58f9e8a93d@coffeebean.com>":
  There will be two practices each week. 10:00 to 10:50 will focus on open/
 utility exercises and 10:50 to 11:40 will focus on novice/open. You may co
 me to either regardless of your level. If sign ups are limited\, a single 
 practice will be held from 10:00 to 11:15. \nPLEASE PLAN TIME TO PARTICIPA
 TE IN SET UP AND CLEAN UP OF EQUIPMENT
DTSTART:20180210T190000Z
DTEND:20180210T190000Z
GEO:+58.2757;-134.395996
LOCATION:Mount Jumbo Gym
ORGANIZER:
SEQUENCE:1
SUMMARY:Open/Utility Un-facilitated Practice - Jan-Mar
TRANSP:OPAQUE
URL:https://ckcoj.org/index.php/component/icagenda/23-open-utility-un-facil
 itated-practice-sep-oct-3/2018-02-10-10-00?Itemid=101
END:VEVENT
END:VCALENDAR
